Package: prostateCancerGrasso Version: 1.37.0 Command: /home/biocbuild/bbs-3.22-bioc/R/bin/R CMD INSTALL prostateCancerGrasso StartedAt: 2025-07-10 10:56:23 -0400 (Thu, 10 Jul 2025) EndedAt: 2025-07-10 10:56:31 -0400 (Thu, 10 Jul 2025) EllapsedTime: 7.6 seconds RetCode: 0 Status: OK