Package: prostateCancerTaylor Version: 1.37.0 Command: /home/biocbuild/bbs-3.22-bioc/R/bin/R CMD INSTALL prostateCancerTaylor StartedAt: 2025-07-08 10:56:09 -0400 (Tue, 08 Jul 2025) EndedAt: 2025-07-08 10:56:19 -0400 (Tue, 08 Jul 2025) EllapsedTime: 10.2 seconds RetCode: 0 Status: OK