Package: prostateCancerVarambally Version: 1.37.0 Command: /home/biocbuild/bbs-3.22-bioc/R/bin/R CMD build --keep-empty-dirs --no-resave-data prostateCancerVarambally StartedAt: 2025-07-08 11:35:56 -0400 (Tue, 08 Jul 2025) EndedAt: 2025-07-08 11:36:03 -0400 (Tue, 08 Jul 2025) EllapsedTime: 7.5 seconds RetCode: 0 Status: OK PackageFile: prostateCancerVarambally_1.37.0.tar.gz PackageFileSize: 5.717 MiB