Package: prostateCancerVarambally Version: 1.37.0 Command: /home/biocbuild/bbs-3.22-bioc/R/bin/R CMD INSTALL prostateCancerVarambally StartedAt: 2025-07-08 10:56:07 -0400 (Tue, 08 Jul 2025) EndedAt: 2025-07-08 10:56:13 -0400 (Tue, 08 Jul 2025) EllapsedTime: 6.4 seconds RetCode: 0 Status: OK