Package: ptairData Version: 1.17.0 Command: /home/biocbuild/bbs-3.22-bioc/R/bin/R CMD build --keep-empty-dirs --no-resave-data ptairData StartedAt: 2025-07-15 11:35:24 -0400 (Tue, 15 Jul 2025) EndedAt: 2025-07-15 11:35:34 -0400 (Tue, 15 Jul 2025) EllapsedTime: 10.6 seconds RetCode: 0 Status: OK PackageFile: ptairData_1.17.0.tar.gz PackageFileSize: 53.1 MiB