Package: ptairData Version: 1.17.0 Command: /home/biocbuild/bbs-3.22-bioc/R/bin/R CMD INSTALL ptairData StartedAt: 2025-07-15 10:55:59 -0400 (Tue, 15 Jul 2025) EndedAt: 2025-07-15 10:56:01 -0400 (Tue, 15 Jul 2025) EllapsedTime: 2.3 seconds RetCode: 0 Status: OK