Package: pumadata Version: 2.45.0 Command: /home/biocbuild/bbs-3.22-bioc/R/bin/R CMD check --install=check:pumadata.install-out.txt --library=/home/biocbuild/bbs-3.22-bioc/R/site-library --timings pumadata_2.45.0.tar.gz StartedAt: 2025-07-15 12:49:02 -0400 (Tue, 15 Jul 2025) EndedAt: 2025-07-15 12:52:27 -0400 (Tue, 15 Jul 2025) EllapsedTime: 204.8 seconds RetCode: 0 Status: OK CheckDir: pumadata.Rcheck Warnings: 0