Package: pumadata Version: 2.45.0 Command: /home/biocbuild/bbs-3.22-bioc/R/bin/R CMD INSTALL pumadata StartedAt: 2025-07-08 11:02:30 -0400 (Tue, 08 Jul 2025) EndedAt: 2025-07-08 11:02:59 -0400 (Tue, 08 Jul 2025) EllapsedTime: 28.8 seconds RetCode: 0 Status: OK