Package: qPLEXdata Version: 1.27.0 Command: /home/biocbuild/bbs-3.22-bioc/R/bin/R CMD INSTALL qPLEXdata StartedAt: 2025-07-10 11:02:15 -0400 (Thu, 10 Jul 2025) EndedAt: 2025-07-10 11:02:58 -0400 (Thu, 10 Jul 2025) EllapsedTime: 42.9 seconds RetCode: 0 Status: OK