Package: rRDPData Version: 1.29.0 Command: /home/biocbuild/bbs-3.22-bioc/R/bin/R CMD build --keep-empty-dirs --no-resave-data rRDPData StartedAt: 2025-07-10 11:39:18 -0400 (Thu, 10 Jul 2025) EndedAt: 2025-07-10 11:41:53 -0400 (Thu, 10 Jul 2025) EllapsedTime: 154.8 seconds RetCode: 0 Status: OK PackageFile: rRDPData_1.29.0.tar.gz PackageFileSize: 154.8 MiB