Package: rRDPData Version: 1.29.0 Command: /home/biocbuild/bbs-3.22-bioc/R/bin/R CMD INSTALL rRDPData StartedAt: 2025-07-10 10:56:33 -0400 (Thu, 10 Jul 2025) EndedAt: 2025-07-10 10:56:40 -0400 (Thu, 10 Jul 2025) EllapsedTime: 7.6 seconds RetCode: 0 Status: OK