Package: raerdata Version: 1.7.0 Command: /home/biocbuild/bbs-3.22-bioc/R/bin/R CMD INSTALL raerdata StartedAt: 2025-07-10 11:00:59 -0400 (Thu, 10 Jul 2025) EndedAt: 2025-07-10 11:01:43 -0400 (Thu, 10 Jul 2025) EllapsedTime: 44.2 seconds RetCode: 0 Status: OK