Package: rcellminerData Version: 2.31.0 Command: /home/biocbuild/bbs-3.22-bioc/R/bin/R CMD build --keep-empty-dirs --no-resave-data rcellminerData StartedAt: 2025-07-08 11:36:35 -0400 (Tue, 08 Jul 2025) EndedAt: 2025-07-08 11:41:08 -0400 (Tue, 08 Jul 2025) EllapsedTime: 272.6 seconds RetCode: 0 Status: OK PackageFile: rcellminerData_2.31.0.tar.gz PackageFileSize: 382 MiB