Package: sampleClassifierData Version: 1.35.0 Command: /home/biocbuild/bbs-3.23-bioc/R/bin/R CMD INSTALL sampleClassifierData StartedAt: 2025-10-30 10:59:04 -0400 (Thu, 30 Oct 2025) EndedAt: 2025-10-30 10:59:16 -0400 (Thu, 30 Oct 2025) EllapsedTime: 12.7 seconds RetCode: 0 Status: OK