Package: sampleClassifierData Version: 1.33.0 Command: /home/biocbuild/bbs-3.22-bioc/R/bin/R CMD build --keep-empty-dirs --no-resave-data sampleClassifierData StartedAt: 2025-07-08 11:39:26 -0400 (Tue, 08 Jul 2025) EndedAt: 2025-07-08 11:39:55 -0400 (Tue, 08 Jul 2025) EllapsedTime: 29.3 seconds RetCode: 0 Status: OK PackageFile: sampleClassifierData_1.33.0.tar.gz PackageFileSize: 15.51 MiB