Package: sampleClassifierData Version: 1.33.0 Command: /home/biocbuild/bbs-3.22-bioc/R/bin/R CMD INSTALL sampleClassifierData StartedAt: 2025-07-08 10:59:04 -0400 (Tue, 08 Jul 2025) EndedAt: 2025-07-08 10:59:17 -0400 (Tue, 08 Jul 2025) EllapsedTime: 12.9 seconds RetCode: 0 Status: OK