Package: scATAC.Explorer Version: 1.17.0 Command: /home/biocbuild/bbs-3.23-bioc/R/bin/R CMD INSTALL scATAC.Explorer StartedAt: 2025-11-04 11:03:01 -0500 (Tue, 04 Nov 2025) EndedAt: 2025-11-04 11:03:27 -0500 (Tue, 04 Nov 2025) EllapsedTime: 25.9 seconds RetCode: 0 Status: OK