Package: scATAC.Explorer Version: 1.15.0 Command: /home/biocbuild/bbs-3.22-bioc/R/bin/R CMD build --keep-empty-dirs --no-resave-data scATAC.Explorer StartedAt: 2025-07-08 11:40:24 -0400 (Tue, 08 Jul 2025) EndedAt: 2025-07-08 11:41:11 -0400 (Tue, 08 Jul 2025) EllapsedTime: 46.6 seconds RetCode: 0 Status: OK PackageFile: scATAC.Explorer_1.15.0.tar.gz PackageFileSize: 247.8 KiB