Package: scATAC.Explorer Version: 1.15.0 Command: /home/biocbuild/bbs-3.22-bioc/R/bin/R CMD INSTALL scATAC.Explorer StartedAt: 2025-07-08 11:02:50 -0400 (Tue, 08 Jul 2025) EndedAt: 2025-07-08 11:03:15 -0400 (Tue, 08 Jul 2025) EllapsedTime: 25.3 seconds RetCode: 0 Status: OK