Package: scMultiome Version: 1.11.0 Command: /home/biocbuild/bbs-3.23-bioc/R/bin/R CMD INSTALL scMultiome StartedAt: 2025-11-06 11:02:27 -0500 (Thu, 06 Nov 2025) EndedAt: 2025-11-06 11:02:58 -0500 (Thu, 06 Nov 2025) EllapsedTime: 30.9 seconds RetCode: 0 Status: OK