Package: scRNAseq Version: 2.25.0 Command: /home/biocbuild/bbs-3.23-bioc/R/bin/R CMD build --keep-empty-dirs --no-resave-data scRNAseq StartedAt: 2025-11-04 11:41:52 -0500 (Tue, 04 Nov 2025) EndedAt: 2025-11-04 11:43:03 -0500 (Tue, 04 Nov 2025) EllapsedTime: 70.9 seconds RetCode: 0 Status: OK PackageFile: scRNAseq_2.25.0.tar.gz PackageFileSize: 304.5 KiB