Package: scRNAseq Version: 2.25.0 Command: /home/biocbuild/bbs-3.23-bioc/R/bin/R CMD INSTALL scRNAseq StartedAt: 2025-11-04 11:01:08 -0500 (Tue, 04 Nov 2025) EndedAt: 2025-11-04 11:01:50 -0500 (Tue, 04 Nov 2025) EllapsedTime: 42.0 seconds RetCode: 0 Status: OK