Package: scRNAseq Version: 2.23.0 Command: /home/biocbuild/bbs-3.22-bioc/R/bin/R CMD check --install=check:scRNAseq.install-out.txt --library=/home/biocbuild/bbs-3.22-bioc/R/site-library --timings scRNAseq_2.23.0.tar.gz StartedAt: 2025-07-15 12:59:28 -0400 (Tue, 15 Jul 2025) EndedAt: 2025-07-15 13:15:04 -0400 (Tue, 15 Jul 2025) EllapsedTime: 936.4 seconds RetCode: 0 Status: OK CheckDir: scRNAseq.Rcheck Warnings: 0