Package: scRNAseq Version: 2.23.0 Command: /home/biocbuild/bbs-3.22-bioc/R/bin/R CMD INSTALL scRNAseq StartedAt: 2025-07-08 11:00:56 -0400 (Tue, 08 Jul 2025) EndedAt: 2025-07-08 11:01:38 -0400 (Tue, 08 Jul 2025) EllapsedTime: 42.0 seconds RetCode: 0 Status: OK