Package: scTHI.data Version: 1.21.0 Command: /home/biocbuild/bbs-3.22-bioc/R/bin/R CMD build --keep-empty-dirs --no-resave-data scTHI.data StartedAt: 2025-07-10 11:42:09 -0400 (Thu, 10 Jul 2025) EndedAt: 2025-07-10 11:42:18 -0400 (Thu, 10 Jul 2025) EllapsedTime: 9.0 seconds RetCode: 0 Status: OK PackageFile: scTHI.data_1.21.0.tar.gz PackageFileSize: 24.17 MiB