Package: scTHI.data Version: 1.21.0 Command: /home/biocbuild/bbs-3.22-bioc/R/bin/R CMD INSTALL scTHI.data StartedAt: 2025-07-10 10:55:20 -0400 (Thu, 10 Jul 2025) EndedAt: 2025-07-10 10:55:27 -0400 (Thu, 10 Jul 2025) EllapsedTime: 7.2 seconds RetCode: 0 Status: OK