Package: scaeData Version: 1.7.0 Command: /home/biocbuild/bbs-3.23-bioc/R/bin/R CMD INSTALL scaeData StartedAt: 2025-10-30 10:57:29 -0400 (Thu, 30 Oct 2025) EndedAt: 2025-10-30 10:57:43 -0400 (Thu, 30 Oct 2025) EllapsedTime: 13.6 seconds RetCode: 0 Status: OK