Package: scaeData Version: 1.5.0 Command: /home/biocbuild/bbs-3.22-bioc/R/bin/R CMD build --keep-empty-dirs --no-resave-data scaeData StartedAt: 2025-07-08 11:39:55 -0400 (Tue, 08 Jul 2025) EndedAt: 2025-07-08 11:43:05 -0400 (Tue, 08 Jul 2025) EllapsedTime: 189.2 seconds RetCode: 0 Status: OK PackageFile: scaeData_1.5.0.tar.gz PackageFileSize: 300.9 KiB