Package: scaeData Version: 1.5.0 Command: /home/biocbuild/bbs-3.22-bioc/R/bin/R CMD INSTALL scaeData StartedAt: 2025-07-08 10:57:26 -0400 (Tue, 08 Jul 2025) EndedAt: 2025-07-08 10:57:38 -0400 (Tue, 08 Jul 2025) EllapsedTime: 12.6 seconds RetCode: 0 Status: OK