Package: scanMiRData Version: 1.15.0 Command: /home/biocbuild/bbs-3.22-bioc/R/bin/R CMD build --keep-empty-dirs --no-resave-data scanMiRData StartedAt: 2025-07-08 11:40:11 -0400 (Tue, 08 Jul 2025) EndedAt: 2025-07-08 11:40:40 -0400 (Tue, 08 Jul 2025) EllapsedTime: 29.8 seconds RetCode: 0 Status: OK PackageFile: scanMiRData_1.15.0.tar.gz PackageFileSize: 16.14 MiB