Package: scanMiRData Version: 1.15.0 Command: /home/biocbuild/bbs-3.22-bioc/R/bin/R CMD check --install=check:scanMiRData.install-out.txt --library=/home/biocbuild/bbs-3.22-bioc/R/site-library --timings scanMiRData_1.15.0.tar.gz StartedAt: 2025-07-15 12:58:34 -0400 (Tue, 15 Jul 2025) EndedAt: 2025-07-15 13:00:24 -0400 (Tue, 15 Jul 2025) EllapsedTime: 109.5 seconds RetCode: 0 Status: OK CheckDir: scanMiRData.Rcheck Warnings: 0