Package: scanMiRData Version: 1.15.0 Command: /home/biocbuild/bbs-3.22-bioc/R/bin/R CMD INSTALL scanMiRData StartedAt: 2025-07-08 10:58:10 -0400 (Tue, 08 Jul 2025) EndedAt: 2025-07-08 10:58:25 -0400 (Tue, 08 Jul 2025) EllapsedTime: 15.1 seconds RetCode: 0 Status: OK