Package: scpdata Version: 1.19.0 Command: /home/biocbuild/bbs-3.23-bioc/R/bin/R CMD build --keep-empty-dirs --no-resave-data scpdata StartedAt: 2025-10-30 11:36:57 -0400 (Thu, 30 Oct 2025) EndedAt: 2025-10-30 11:37:52 -0400 (Thu, 30 Oct 2025) EllapsedTime: 54.8 seconds RetCode: 0 Status: OK PackageFile: scpdata_1.19.0.tar.gz PackageFileSize: 699 KiB