Package: scpdata Version: 1.19.0 Command: /home/biocbuild/bbs-3.23-bioc/R/bin/R CMD INSTALL scpdata StartedAt: 2025-10-30 10:59:34 -0400 (Thu, 30 Oct 2025) EndedAt: 2025-10-30 11:00:05 -0400 (Thu, 30 Oct 2025) EllapsedTime: 31.5 seconds RetCode: 0 Status: OK