Package: scpdata Version: 1.17.1 Command: /home/biocbuild/bbs-3.22-bioc/R/bin/R CMD build --keep-empty-dirs --no-resave-data scpdata StartedAt: 2025-07-08 11:40:42 -0400 (Tue, 08 Jul 2025) EndedAt: 2025-07-08 11:41:46 -0400 (Tue, 08 Jul 2025) EllapsedTime: 63.6 seconds RetCode: 0 Status: OK PackageFile: scpdata_1.17.1.tar.gz PackageFileSize: 699.1 KiB