Package: scpdata Version: 1.17.1 Command: /home/biocbuild/bbs-3.22-bioc/R/bin/R CMD INSTALL scpdata StartedAt: 2025-07-08 10:59:33 -0400 (Tue, 08 Jul 2025) EndedAt: 2025-07-08 11:00:05 -0400 (Tue, 08 Jul 2025) EllapsedTime: 32.1 seconds RetCode: 0 Status: OK