Package: seqc Version: 1.45.0 Command: /home/biocbuild/bbs-3.23-bioc/R/bin/R CMD build --keep-empty-dirs --no-resave-data seqc StartedAt: 2025-11-04 11:42:36 -0500 (Tue, 04 Nov 2025) EndedAt: 2025-11-04 11:44:44 -0500 (Tue, 04 Nov 2025) EllapsedTime: 127.5 seconds RetCode: 0 Status: OK PackageFile: seqc_1.45.0.tar.gz PackageFileSize: 179.1 MiB