Package: seqc Version: 1.43.0 Command: /home/biocbuild/bbs-3.22-bioc/R/bin/R CMD build --keep-empty-dirs --no-resave-data seqc StartedAt: 2025-07-08 11:41:17 -0400 (Tue, 08 Jul 2025) EndedAt: 2025-07-08 11:43:25 -0400 (Tue, 08 Jul 2025) EllapsedTime: 128.1 seconds RetCode: 0 Status: OK PackageFile: seqc_1.43.0.tar.gz PackageFileSize: 179.1 MiB