Package: serumStimulation Version: 1.45.0 Command: /home/biocbuild/bbs-3.22-bioc/R/bin/R CMD build --keep-empty-dirs --no-resave-data serumStimulation StartedAt: 2025-07-10 11:42:25 -0400 (Thu, 10 Jul 2025) EndedAt: 2025-07-10 11:42:26 -0400 (Thu, 10 Jul 2025) EllapsedTime: 1.0 seconds RetCode: 0 Status: OK PackageFile: serumStimulation_1.45.0.tar.gz PackageFileSize: 4.041 MiB