Package: sesameData Version: 1.27.1 Command: /home/biocbuild/bbs-3.22-bioc/R/bin/R CMD build --keep-empty-dirs --no-resave-data sesameData StartedAt: 2025-07-10 11:42:26 -0400 (Thu, 10 Jul 2025) EndedAt: 2025-07-10 11:43:00 -0400 (Thu, 10 Jul 2025) EllapsedTime: 34.2 seconds RetCode: 0 Status: OK PackageFile: sesameData_1.27.1.tar.gz PackageFileSize: 1.882 MiB