Package: sesameData Version: 1.27.1 Command: /home/biocbuild/bbs-3.22-bioc/R/bin/R CMD INSTALL sesameData StartedAt: 2025-07-10 11:03:00 -0400 (Thu, 10 Jul 2025) EndedAt: 2025-07-10 11:03:17 -0400 (Thu, 10 Jul 2025) EllapsedTime: 17.2 seconds RetCode: 0 Status: OK