Package: seventyGeneData Version: 1.45.0 Command: /home/biocbuild/bbs-3.22-bioc/R/bin/R CMD build --keep-empty-dirs --no-resave-data seventyGeneData StartedAt: 2025-07-10 11:42:38 -0400 (Thu, 10 Jul 2025) EndedAt: 2025-07-10 11:42:54 -0400 (Thu, 10 Jul 2025) EllapsedTime: 16.1 seconds RetCode: 0 Status: OK PackageFile: seventyGeneData_1.45.0.tar.gz PackageFileSize: 145.1 MiB