Package: signatureSearchData Version: 1.25.0 Command: /home/biocbuild/bbs-3.23-bioc/R/bin/R CMD build --keep-empty-dirs --no-resave-data signatureSearchData StartedAt: 2025-10-30 11:38:27 -0400 (Thu, 30 Oct 2025) EndedAt: 2025-10-30 11:38:42 -0400 (Thu, 30 Oct 2025) EllapsedTime: 15.1 seconds RetCode: 0 Status: OK PackageFile: signatureSearchData_1.25.0.tar.gz PackageFileSize: 656.8 KiB