Package: signatureSearchData Version: 1.25.0 Command: /home/biocbuild/bbs-3.23-bioc/R/bin/R CMD INSTALL signatureSearchData StartedAt: 2025-10-30 10:57:11 -0400 (Thu, 30 Oct 2025) EndedAt: 2025-10-30 10:57:16 -0400 (Thu, 30 Oct 2025) EllapsedTime: 5.0 seconds RetCode: 0 Status: OK