Package: smokingMouse Version: 1.7.0 Command: /home/biocbuild/bbs-3.22-bioc/R/bin/R CMD build --keep-empty-dirs --no-resave-data smokingMouse StartedAt: 2025-07-10 11:43:22 -0400 (Thu, 10 Jul 2025) EndedAt: 2025-07-10 11:43:47 -0400 (Thu, 10 Jul 2025) EllapsedTime: 24.5 seconds RetCode: 0 Status: OK PackageFile: smokingMouse_1.7.0.tar.gz PackageFileSize: 5.107 MiB