Package: spatialDmelxsim Version: 1.17.0 Command: /home/biocbuild/bbs-3.23-bioc/R/bin/R CMD build --keep-empty-dirs --no-resave-data spatialDmelxsim StartedAt: 2025-11-04 11:43:54 -0500 (Tue, 04 Nov 2025) EndedAt: 2025-11-04 11:44:38 -0500 (Tue, 04 Nov 2025) EllapsedTime: 43.7 seconds RetCode: 0 Status: OK PackageFile: spatialDmelxsim_1.17.0.tar.gz PackageFileSize: 890.7 KiB