Package: spatialDmelxsim Version: 1.17.0 Command: /home/biocbuild/bbs-3.23-bioc/R/bin/R CMD check --install=check:spatialDmelxsim.install-out.txt --library=/home/biocbuild/bbs-3.23-bioc/R/site-library --timings spatialDmelxsim_1.17.0.tar.gz StartedAt: 2025-11-20 13:15:00 -0500 (Thu, 20 Nov 2025) EndedAt: 2025-11-20 13:18:26 -0500 (Thu, 20 Nov 2025) EllapsedTime: 206.1 seconds RetCode: 0 Status: OK CheckDir: spatialDmelxsim.Rcheck Warnings: 0