Package: spatialDmelxsim Version: 1.17.0 Command: /home/biocbuild/bbs-3.23-bioc/R/bin/R CMD INSTALL spatialDmelxsim StartedAt: 2025-11-04 11:01:28 -0500 (Tue, 04 Nov 2025) EndedAt: 2025-11-04 11:01:55 -0500 (Tue, 04 Nov 2025) EllapsedTime: 26.4 seconds RetCode: 0 Status: OK