Package: spatialDmelxsim Version: 1.15.0 Command: /home/biocbuild/bbs-3.22-bioc/R/bin/R CMD build --keep-empty-dirs --no-resave-data spatialDmelxsim StartedAt: 2025-07-08 11:42:44 -0400 (Tue, 08 Jul 2025) EndedAt: 2025-07-08 11:43:37 -0400 (Tue, 08 Jul 2025) EllapsedTime: 52.7 seconds RetCode: 0 Status: OK PackageFile: spatialDmelxsim_1.15.0.tar.gz PackageFileSize: 890.7 KiB