Package: spatialDmelxsim Version: 1.15.0 Command: /home/biocbuild/bbs-3.22-bioc/R/bin/R CMD INSTALL spatialDmelxsim StartedAt: 2025-07-08 11:01:13 -0400 (Tue, 08 Jul 2025) EndedAt: 2025-07-08 11:01:38 -0400 (Tue, 08 Jul 2025) EllapsedTime: 25.1 seconds RetCode: 0 Status: OK